BEGIN:VCALENDAR
VERSION:2.0
PRODID:-//Fuquay Varina Emergency Food Pantry - ECPv6.15.17//NONSGML v1.0//EN
CALSCALE:GREGORIAN
METHOD:PUBLISH
X-WR-CALNAME:Fuquay Varina Emergency Food Pantry
X-ORIGINAL-URL:https://www.fvfoodpantry.com
X-WR-CALDESC:Events for Fuquay Varina Emergency Food Pantry
REFRESH-INTERVAL;VALUE=DURATION:PT1H
X-Robots-Tag:noindex
X-PUBLISHED-TTL:PT1H
BEGIN:VTIMEZONE
TZID:America/New_York
BEGIN:DAYLIGHT
TZOFFSETFROM:-0500
TZOFFSETTO:-0400
TZNAME:EDT
DTSTART:20240310T070000
END:DAYLIGHT
BEGIN:STANDARD
TZOFFSETFROM:-0400
TZOFFSETTO:-0500
TZNAME:EST
DTSTART:20241103T060000
END:STANDARD
BEGIN:DAYLIGHT
TZOFFSETFROM:-0500
TZOFFSETTO:-0400
TZNAME:EDT
DTSTART:20250309T070000
END:DAYLIGHT
BEGIN:STANDARD
TZOFFSETFROM:-0400
TZOFFSETTO:-0500
TZNAME:EST
DTSTART:20251102T060000
END:STANDARD
BEGIN:DAYLIGHT
TZOFFSETFROM:-0500
TZOFFSETTO:-0400
TZNAME:EDT
DTSTART:20260308T070000
END:DAYLIGHT
BEGIN:STANDARD
TZOFFSETFROM:-0400
TZOFFSETTO:-0500
TZNAME:EST
DTSTART:20261101T060000
END:STANDARD
END:VTIMEZONE
BEGIN:VEVENT
DTSTART;TZID=America/New_York:20250812T090000
DTEND;TZID=America/New_York:20250812T114500
DTSTAMP:20260420T123013
CREATED:20240704T073911Z
LAST-MODIFIED:20240704T073911Z
UID:11166-1754989200-1754999100@www.fvfoodpantry.com
SUMMARY:Food Distribution
DESCRIPTION:
URL:https://www.fvfoodpantry.com/calendars/food-distribution-251/
LOCATION:Fuquay Varina Emergency Food Pantry\, 216 West Academy Street\, Fuquay Varina\, NC\, 27526\, United States
CATEGORIES:Food Distribution
END:VEVENT
BEGIN:VEVENT
DTSTART;TZID=America/New_York:20250810T120000
DTEND;TZID=America/New_York:20250810T123000
DTSTAMP:20260420T123013
CREATED:20240707T075700Z
LAST-MODIFIED:20240707T075700Z
UID:11255-1754827200-1754829000@www.fvfoodpantry.com
SUMMARY:It's In The Bag Ministry
DESCRIPTION:
URL:https://www.fvfoodpantry.com/calendars/its-in-the-bag-ministry-107/
LOCATION:Fuquay Varina Emergency Food Pantry\, 216 West Academy Street\, Fuquay Varina\, NC\, 27526\, United States
CATEGORIES:Food Distribution
END:VEVENT
BEGIN:VEVENT
DTSTART;TZID=America/New_York:20250807T150000
DTEND;TZID=America/New_York:20250807T174500
DTSTAMP:20260420T123013
CREATED:20240704T072829Z
LAST-MODIFIED:20240704T072829Z
UID:11084-1754578800-1754588700@www.fvfoodpantry.com
SUMMARY:Food Distribution
DESCRIPTION:
URL:https://www.fvfoodpantry.com/calendars/food-distribution-171/
LOCATION:Fuquay Varina Emergency Food Pantry\, 216 West Academy Street\, Fuquay Varina\, NC\, 27526\, United States
CATEGORIES:Food Distribution
END:VEVENT
BEGIN:VEVENT
DTSTART;TZID=America/New_York:20250805T090000
DTEND;TZID=America/New_York:20250805T114500
DTSTAMP:20260420T123013
CREATED:20240704T073911Z
LAST-MODIFIED:20240704T073911Z
UID:11165-1754384400-1754394300@www.fvfoodpantry.com
SUMMARY:Food Distribution
DESCRIPTION:
URL:https://www.fvfoodpantry.com/calendars/food-distribution-250/
LOCATION:Fuquay Varina Emergency Food Pantry\, 216 West Academy Street\, Fuquay Varina\, NC\, 27526\, United States
CATEGORIES:Food Distribution
END:VEVENT
BEGIN:VEVENT
DTSTART;TZID=America/New_York:20250803T120000
DTEND;TZID=America/New_York:20250803T123000
DTSTAMP:20260420T123013
CREATED:20240707T075700Z
LAST-MODIFIED:20240707T075700Z
UID:11254-1754222400-1754224200@www.fvfoodpantry.com
SUMMARY:It's In The Bag Ministry
DESCRIPTION:
URL:https://www.fvfoodpantry.com/calendars/its-in-the-bag-ministry-106/
LOCATION:Fuquay Varina Emergency Food Pantry\, 216 West Academy Street\, Fuquay Varina\, NC\, 27526\, United States
CATEGORIES:Food Distribution
END:VEVENT
BEGIN:VEVENT
DTSTART;TZID=America/New_York:20250731T150000
DTEND;TZID=America/New_York:20250731T174500
DTSTAMP:20260420T123013
CREATED:20240704T072828Z
LAST-MODIFIED:20240704T072828Z
UID:11083-1753974000-1753983900@www.fvfoodpantry.com
SUMMARY:Food Distribution
DESCRIPTION:
URL:https://www.fvfoodpantry.com/calendars/food-distribution-170/
LOCATION:Fuquay Varina Emergency Food Pantry\, 216 West Academy Street\, Fuquay Varina\, NC\, 27526\, United States
CATEGORIES:Food Distribution
END:VEVENT
BEGIN:VEVENT
DTSTART;TZID=America/New_York:20250729T090000
DTEND;TZID=America/New_York:20250729T114500
DTSTAMP:20260420T123013
CREATED:20240704T073911Z
LAST-MODIFIED:20240704T073911Z
UID:11164-1753779600-1753789500@www.fvfoodpantry.com
SUMMARY:Food Distribution
DESCRIPTION:
URL:https://www.fvfoodpantry.com/calendars/food-distribution-249/
LOCATION:Fuquay Varina Emergency Food Pantry\, 216 West Academy Street\, Fuquay Varina\, NC\, 27526\, United States
CATEGORIES:Food Distribution
END:VEVENT
BEGIN:VEVENT
DTSTART;TZID=America/New_York:20250727T120000
DTEND;TZID=America/New_York:20250727T123000
DTSTAMP:20260420T123013
CREATED:20240707T075700Z
LAST-MODIFIED:20240707T075700Z
UID:11253-1753617600-1753619400@www.fvfoodpantry.com
SUMMARY:It's In The Bag Ministry
DESCRIPTION:
URL:https://www.fvfoodpantry.com/calendars/its-in-the-bag-ministry-105/
LOCATION:Fuquay Varina Emergency Food Pantry\, 216 West Academy Street\, Fuquay Varina\, NC\, 27526\, United States
CATEGORIES:Food Distribution
END:VEVENT
BEGIN:VEVENT
DTSTART;TZID=America/New_York:20250724T150000
DTEND;TZID=America/New_York:20250724T174500
DTSTAMP:20260420T123013
CREATED:20240704T072827Z
LAST-MODIFIED:20240704T072827Z
UID:11082-1753369200-1753379100@www.fvfoodpantry.com
SUMMARY:Food Distribution
DESCRIPTION:
URL:https://www.fvfoodpantry.com/calendars/food-distribution-169/
LOCATION:Fuquay Varina Emergency Food Pantry\, 216 West Academy Street\, Fuquay Varina\, NC\, 27526\, United States
CATEGORIES:Food Distribution
END:VEVENT
BEGIN:VEVENT
DTSTART;TZID=America/New_York:20250722T090000
DTEND;TZID=America/New_York:20250722T114500
DTSTAMP:20260420T123013
CREATED:20240704T073911Z
LAST-MODIFIED:20240704T073911Z
UID:11163-1753174800-1753184700@www.fvfoodpantry.com
SUMMARY:Food Distribution
DESCRIPTION:
URL:https://www.fvfoodpantry.com/calendars/food-distribution-248/
LOCATION:Fuquay Varina Emergency Food Pantry\, 216 West Academy Street\, Fuquay Varina\, NC\, 27526\, United States
CATEGORIES:Food Distribution
END:VEVENT
BEGIN:VEVENT
DTSTART;TZID=America/New_York:20250720T120000
DTEND;TZID=America/New_York:20250720T123000
DTSTAMP:20260420T123013
CREATED:20240707T075651Z
LAST-MODIFIED:20240707T075651Z
UID:11252-1753012800-1753014600@www.fvfoodpantry.com
SUMMARY:It's In The Bag Ministry
DESCRIPTION:
URL:https://www.fvfoodpantry.com/calendars/its-in-the-bag-ministry-104/
LOCATION:Fuquay Varina Emergency Food Pantry\, 216 West Academy Street\, Fuquay Varina\, NC\, 27526\, United States
CATEGORIES:Food Distribution
END:VEVENT
BEGIN:VEVENT
DTSTART;TZID=America/New_York:20250717T150000
DTEND;TZID=America/New_York:20250717T174500
DTSTAMP:20260420T123013
CREATED:20240704T072814Z
LAST-MODIFIED:20240704T072814Z
UID:11081-1752764400-1752774300@www.fvfoodpantry.com
SUMMARY:Food Distribution
DESCRIPTION:
URL:https://www.fvfoodpantry.com/calendars/food-distribution-168/
LOCATION:Fuquay Varina Emergency Food Pantry\, 216 West Academy Street\, Fuquay Varina\, NC\, 27526\, United States
CATEGORIES:Food Distribution
END:VEVENT
BEGIN:VEVENT
DTSTART;TZID=America/New_York:20250715T090000
DTEND;TZID=America/New_York:20250715T114500
DTSTAMP:20260420T123013
CREATED:20240704T073854Z
LAST-MODIFIED:20240704T073854Z
UID:11162-1752570000-1752579900@www.fvfoodpantry.com
SUMMARY:Food Distribution
DESCRIPTION:
URL:https://www.fvfoodpantry.com/calendars/food-distribution-247/
LOCATION:Fuquay Varina Emergency Food Pantry\, 216 West Academy Street\, Fuquay Varina\, NC\, 27526\, United States
CATEGORIES:Food Distribution
END:VEVENT
BEGIN:VEVENT
DTSTART;TZID=America/New_York:20250713T120000
DTEND;TZID=America/New_York:20250713T123000
DTSTAMP:20260420T123013
CREATED:20240707T075651Z
LAST-MODIFIED:20240707T075651Z
UID:11251-1752408000-1752409800@www.fvfoodpantry.com
SUMMARY:It's In The Bag Ministry
DESCRIPTION:
URL:https://www.fvfoodpantry.com/calendars/its-in-the-bag-ministry-103/
LOCATION:Fuquay Varina Emergency Food Pantry\, 216 West Academy Street\, Fuquay Varina\, NC\, 27526\, United States
CATEGORIES:Food Distribution
END:VEVENT
BEGIN:VEVENT
DTSTART;TZID=America/New_York:20250710T150000
DTEND;TZID=America/New_York:20250710T174500
DTSTAMP:20260420T123013
CREATED:20240704T072814Z
LAST-MODIFIED:20240704T072814Z
UID:11080-1752159600-1752169500@www.fvfoodpantry.com
SUMMARY:Food Distribution
DESCRIPTION:
URL:https://www.fvfoodpantry.com/calendars/food-distribution-167/
LOCATION:Fuquay Varina Emergency Food Pantry\, 216 West Academy Street\, Fuquay Varina\, NC\, 27526\, United States
CATEGORIES:Food Distribution
END:VEVENT
BEGIN:VEVENT
DTSTART;TZID=America/New_York:20250708T090000
DTEND;TZID=America/New_York:20250708T114500
DTSTAMP:20260420T123013
CREATED:20240704T073854Z
LAST-MODIFIED:20240704T073854Z
UID:11161-1751965200-1751975100@www.fvfoodpantry.com
SUMMARY:Food Distribution
DESCRIPTION:
URL:https://www.fvfoodpantry.com/calendars/food-distribution-246/
LOCATION:Fuquay Varina Emergency Food Pantry\, 216 West Academy Street\, Fuquay Varina\, NC\, 27526\, United States
CATEGORIES:Food Distribution
END:VEVENT
BEGIN:VEVENT
DTSTART;TZID=America/New_York:20250706T120000
DTEND;TZID=America/New_York:20250706T123000
DTSTAMP:20260420T123013
CREATED:20240707T075650Z
LAST-MODIFIED:20240707T075650Z
UID:11250-1751803200-1751805000@www.fvfoodpantry.com
SUMMARY:It's In The Bag Ministry
DESCRIPTION:
URL:https://www.fvfoodpantry.com/calendars/its-in-the-bag-ministry-102/
LOCATION:Fuquay Varina Emergency Food Pantry\, 216 West Academy Street\, Fuquay Varina\, NC\, 27526\, United States
CATEGORIES:Food Distribution
END:VEVENT
BEGIN:VEVENT
DTSTART;TZID=America/New_York:20250703T150000
DTEND;TZID=America/New_York:20250703T174500
DTSTAMP:20260420T123013
CREATED:20240704T072814Z
LAST-MODIFIED:20240704T072814Z
UID:11079-1751554800-1751564700@www.fvfoodpantry.com
SUMMARY:Food Distribution
DESCRIPTION:
URL:https://www.fvfoodpantry.com/calendars/food-distribution-166/
LOCATION:Fuquay Varina Emergency Food Pantry\, 216 West Academy Street\, Fuquay Varina\, NC\, 27526\, United States
CATEGORIES:Food Distribution
END:VEVENT
BEGIN:VEVENT
DTSTART;TZID=America/New_York:20250701T090000
DTEND;TZID=America/New_York:20250701T114500
DTSTAMP:20260420T123013
CREATED:20240704T073854Z
LAST-MODIFIED:20240704T073854Z
UID:11160-1751360400-1751370300@www.fvfoodpantry.com
SUMMARY:Food Distribution
DESCRIPTION:
URL:https://www.fvfoodpantry.com/calendars/food-distribution-245/
LOCATION:Fuquay Varina Emergency Food Pantry\, 216 West Academy Street\, Fuquay Varina\, NC\, 27526\, United States
CATEGORIES:Food Distribution
END:VEVENT
BEGIN:VEVENT
DTSTART;TZID=America/New_York:20250629T120000
DTEND;TZID=America/New_York:20250629T123000
DTSTAMP:20260420T123013
CREATED:20240707T075650Z
LAST-MODIFIED:20240707T075650Z
UID:11249-1751198400-1751200200@www.fvfoodpantry.com
SUMMARY:It's In The Bag Ministry
DESCRIPTION:
URL:https://www.fvfoodpantry.com/calendars/its-in-the-bag-ministry-101/
LOCATION:Fuquay Varina Emergency Food Pantry\, 216 West Academy Street\, Fuquay Varina\, NC\, 27526\, United States
CATEGORIES:Food Distribution
END:VEVENT
BEGIN:VEVENT
DTSTART;TZID=America/New_York:20250626T150000
DTEND;TZID=America/New_York:20250626T174500
DTSTAMP:20260420T123013
CREATED:20240704T072813Z
LAST-MODIFIED:20240704T072813Z
UID:11078-1750950000-1750959900@www.fvfoodpantry.com
SUMMARY:Food Distribution
DESCRIPTION:
URL:https://www.fvfoodpantry.com/calendars/food-distribution-165/
LOCATION:Fuquay Varina Emergency Food Pantry\, 216 West Academy Street\, Fuquay Varina\, NC\, 27526\, United States
CATEGORIES:Food Distribution
END:VEVENT
BEGIN:VEVENT
DTSTART;TZID=America/New_York:20250624T090000
DTEND;TZID=America/New_York:20250624T114500
DTSTAMP:20260420T123013
CREATED:20240704T073854Z
LAST-MODIFIED:20240704T073854Z
UID:11159-1750755600-1750765500@www.fvfoodpantry.com
SUMMARY:Food Distribution
DESCRIPTION:
URL:https://www.fvfoodpantry.com/calendars/food-distribution-244/
LOCATION:Fuquay Varina Emergency Food Pantry\, 216 West Academy Street\, Fuquay Varina\, NC\, 27526\, United States
CATEGORIES:Food Distribution
END:VEVENT
BEGIN:VEVENT
DTSTART;TZID=America/New_York:20250622T120000
DTEND;TZID=America/New_York:20250622T123000
DTSTAMP:20260420T123013
CREATED:20240707T075649Z
LAST-MODIFIED:20240707T075649Z
UID:11248-1750593600-1750595400@www.fvfoodpantry.com
SUMMARY:It's In The Bag Ministry
DESCRIPTION:
URL:https://www.fvfoodpantry.com/calendars/its-in-the-bag-ministry-100/
LOCATION:Fuquay Varina Emergency Food Pantry\, 216 West Academy Street\, Fuquay Varina\, NC\, 27526\, United States
CATEGORIES:Food Distribution
END:VEVENT
BEGIN:VEVENT
DTSTART;TZID=America/New_York:20250619T150000
DTEND;TZID=America/New_York:20250619T174500
DTSTAMP:20260420T123013
CREATED:20240704T072813Z
LAST-MODIFIED:20240704T072813Z
UID:11077-1750345200-1750355100@www.fvfoodpantry.com
SUMMARY:Food Distribution
DESCRIPTION:
URL:https://www.fvfoodpantry.com/calendars/food-distribution-164/
LOCATION:Fuquay Varina Emergency Food Pantry\, 216 West Academy Street\, Fuquay Varina\, NC\, 27526\, United States
CATEGORIES:Food Distribution
END:VEVENT
BEGIN:VEVENT
DTSTART;TZID=America/New_York:20250617T090000
DTEND;TZID=America/New_York:20250617T114500
DTSTAMP:20260420T123013
CREATED:20240704T073854Z
LAST-MODIFIED:20240704T073854Z
UID:11158-1750150800-1750160700@www.fvfoodpantry.com
SUMMARY:Food Distribution
DESCRIPTION:
URL:https://www.fvfoodpantry.com/calendars/food-distribution-243/
LOCATION:Fuquay Varina Emergency Food Pantry\, 216 West Academy Street\, Fuquay Varina\, NC\, 27526\, United States
CATEGORIES:Food Distribution
END:VEVENT
BEGIN:VEVENT
DTSTART;TZID=America/New_York:20250615T120000
DTEND;TZID=America/New_York:20250615T123000
DTSTAMP:20260420T123013
CREATED:20240707T075636Z
LAST-MODIFIED:20240707T075636Z
UID:11247-1749988800-1749990600@www.fvfoodpantry.com
SUMMARY:It's In The Bag Ministry
DESCRIPTION:
URL:https://www.fvfoodpantry.com/calendars/its-in-the-bag-ministry-99/
LOCATION:Fuquay Varina Emergency Food Pantry\, 216 West Academy Street\, Fuquay Varina\, NC\, 27526\, United States
CATEGORIES:Food Distribution
END:VEVENT
BEGIN:VEVENT
DTSTART;TZID=America/New_York:20250612T150000
DTEND;TZID=America/New_York:20250612T174500
DTSTAMP:20260420T123013
CREATED:20240704T072151Z
LAST-MODIFIED:20240704T072151Z
UID:11076-1749740400-1749750300@www.fvfoodpantry.com
SUMMARY:Food Distribution
DESCRIPTION:
URL:https://www.fvfoodpantry.com/calendars/food-distribution-163/
LOCATION:Fuquay Varina Emergency Food Pantry\, 216 West Academy Street\, Fuquay Varina\, NC\, 27526\, United States
CATEGORIES:Food Distribution
END:VEVENT
BEGIN:VEVENT
DTSTART;TZID=America/New_York:20250610T090000
DTEND;TZID=America/New_York:20250610T114500
DTSTAMP:20260420T123013
CREATED:20240704T073837Z
LAST-MODIFIED:20240704T073837Z
UID:11157-1749546000-1749555900@www.fvfoodpantry.com
SUMMARY:Food Distribution
DESCRIPTION:
URL:https://www.fvfoodpantry.com/calendars/food-distribution-242/
LOCATION:Fuquay Varina Emergency Food Pantry\, 216 West Academy Street\, Fuquay Varina\, NC\, 27526\, United States
CATEGORIES:Food Distribution
END:VEVENT
BEGIN:VEVENT
DTSTART;TZID=America/New_York:20250608T120000
DTEND;TZID=America/New_York:20250608T123000
DTSTAMP:20260420T123013
CREATED:20240707T075636Z
LAST-MODIFIED:20240707T075636Z
UID:11246-1749384000-1749385800@www.fvfoodpantry.com
SUMMARY:It's In The Bag Ministry
DESCRIPTION:
URL:https://www.fvfoodpantry.com/calendars/its-in-the-bag-ministry-98/
LOCATION:Fuquay Varina Emergency Food Pantry\, 216 West Academy Street\, Fuquay Varina\, NC\, 27526\, United States
CATEGORIES:Food Distribution
END:VEVENT
BEGIN:VEVENT
DTSTART;TZID=America/New_York:20250605T150000
DTEND;TZID=America/New_York:20250605T174500
DTSTAMP:20260420T123013
CREATED:20240704T072151Z
LAST-MODIFIED:20240704T072151Z
UID:11075-1749135600-1749145500@www.fvfoodpantry.com
SUMMARY:Food Distribution
DESCRIPTION:
URL:https://www.fvfoodpantry.com/calendars/food-distribution-162/
LOCATION:Fuquay Varina Emergency Food Pantry\, 216 West Academy Street\, Fuquay Varina\, NC\, 27526\, United States
CATEGORIES:Food Distribution
END:VEVENT
END:VCALENDAR