BEGIN:VCALENDAR
VERSION:2.0
PRODID:-//Fuquay Varina Emergency Food Pantry - ECPv6.15.17//NONSGML v1.0//EN
CALSCALE:GREGORIAN
METHOD:PUBLISH
X-ORIGINAL-URL:https://www.fvfoodpantry.com
X-WR-CALDESC:Events for Fuquay Varina Emergency Food Pantry
REFRESH-INTERVAL;VALUE=DURATION:PT1H
X-Robots-Tag:noindex
X-PUBLISHED-TTL:PT1H
BEGIN:VTIMEZONE
TZID:America/New_York
BEGIN:DAYLIGHT
TZOFFSETFROM:-0500
TZOFFSETTO:-0400
TZNAME:EDT
DTSTART:20240310T070000
END:DAYLIGHT
BEGIN:STANDARD
TZOFFSETFROM:-0400
TZOFFSETTO:-0500
TZNAME:EST
DTSTART:20241103T060000
END:STANDARD
BEGIN:DAYLIGHT
TZOFFSETFROM:-0500
TZOFFSETTO:-0400
TZNAME:EDT
DTSTART:20250309T070000
END:DAYLIGHT
BEGIN:STANDARD
TZOFFSETFROM:-0400
TZOFFSETTO:-0500
TZNAME:EST
DTSTART:20251102T060000
END:STANDARD
BEGIN:DAYLIGHT
TZOFFSETFROM:-0500
TZOFFSETTO:-0400
TZNAME:EDT
DTSTART:20260308T070000
END:DAYLIGHT
BEGIN:STANDARD
TZOFFSETFROM:-0400
TZOFFSETTO:-0500
TZNAME:EST
DTSTART:20261101T060000
END:STANDARD
END:VTIMEZONE
BEGIN:VEVENT
DTSTART;TZID=America/New_York:20251111T090000
DTEND;TZID=America/New_York:20251111T114500
DTSTAMP:20260419T222615
CREATED:20240704T073959Z
LAST-MODIFIED:20240704T073959Z
UID:11179-1762851600-1762861500@www.fvfoodpantry.com
SUMMARY:Food Distribution
DESCRIPTION:
URL:https://www.fvfoodpantry.com/calendars/food-distribution-264/
LOCATION:Fuquay Varina Emergency Food Pantry\, 216 West Academy Street\, Fuquay Varina\, NC\, 27526\, United States
CATEGORIES:Food Distribution
END:VEVENT
BEGIN:VEVENT
DTSTART;TZID=America/New_York:20251109T120000
DTEND;TZID=America/New_York:20251109T123000
DTSTAMP:20260419T222615
CREATED:20240707T075717Z
LAST-MODIFIED:20240707T075717Z
UID:11268-1762689600-1762691400@www.fvfoodpantry.com
SUMMARY:It's In The Bag Ministry
DESCRIPTION:
URL:https://www.fvfoodpantry.com/calendars/its-in-the-bag-ministry-120/
LOCATION:Fuquay Varina Emergency Food Pantry\, 216 West Academy Street\, Fuquay Varina\, NC\, 27526\, United States
CATEGORIES:Food Distribution
END:VEVENT
BEGIN:VEVENT
DTSTART;TZID=America/New_York:20251106T150000
DTEND;TZID=America/New_York:20251106T174500
DTSTAMP:20260419T222615
CREATED:20240704T072903Z
LAST-MODIFIED:20240704T072903Z
UID:11097-1762441200-1762451100@www.fvfoodpantry.com
SUMMARY:Food Distribution
DESCRIPTION:
URL:https://www.fvfoodpantry.com/calendars/food-distribution-184/
LOCATION:Fuquay Varina Emergency Food Pantry\, 216 West Academy Street\, Fuquay Varina\, NC\, 27526\, United States
CATEGORIES:Food Distribution
END:VEVENT
BEGIN:VEVENT
DTSTART;TZID=America/New_York:20251104T090000
DTEND;TZID=America/New_York:20251104T114500
DTSTAMP:20260419T222615
CREATED:20240704T073959Z
LAST-MODIFIED:20240704T073959Z
UID:11178-1762246800-1762256700@www.fvfoodpantry.com
SUMMARY:Food Distribution
DESCRIPTION:
URL:https://www.fvfoodpantry.com/calendars/food-distribution-263/
LOCATION:Fuquay Varina Emergency Food Pantry\, 216 West Academy Street\, Fuquay Varina\, NC\, 27526\, United States
CATEGORIES:Food Distribution
END:VEVENT
BEGIN:VEVENT
DTSTART;TZID=America/New_York:20251102T120000
DTEND;TZID=America/New_York:20251102T123000
DTSTAMP:20260419T222615
CREATED:20240707T075715Z
LAST-MODIFIED:20240707T075715Z
UID:11267-1762084800-1762086600@www.fvfoodpantry.com
SUMMARY:It's In The Bag Ministry
DESCRIPTION:
URL:https://www.fvfoodpantry.com/calendars/its-in-the-bag-ministry-119/
LOCATION:Fuquay Varina Emergency Food Pantry\, 216 West Academy Street\, Fuquay Varina\, NC\, 27526\, United States
CATEGORIES:Food Distribution
END:VEVENT
BEGIN:VEVENT
DTSTART;TZID=America/New_York:20251030T150000
DTEND;TZID=America/New_York:20251030T174500
DTSTAMP:20260419T222615
CREATED:20240704T072849Z
LAST-MODIFIED:20240704T072849Z
UID:11096-1761836400-1761846300@www.fvfoodpantry.com
SUMMARY:Food Distribution
DESCRIPTION:
URL:https://www.fvfoodpantry.com/calendars/food-distribution-183/
LOCATION:Fuquay Varina Emergency Food Pantry\, 216 West Academy Street\, Fuquay Varina\, NC\, 27526\, United States
CATEGORIES:Food Distribution
END:VEVENT
BEGIN:VEVENT
DTSTART;TZID=America/New_York:20251028T090000
DTEND;TZID=America/New_York:20251028T114500
DTSTAMP:20260419T222615
CREATED:20240704T073946Z
LAST-MODIFIED:20240704T073946Z
UID:11177-1761642000-1761651900@www.fvfoodpantry.com
SUMMARY:Food Distribution
DESCRIPTION:
URL:https://www.fvfoodpantry.com/calendars/food-distribution-262/
LOCATION:Fuquay Varina Emergency Food Pantry\, 216 West Academy Street\, Fuquay Varina\, NC\, 27526\, United States
CATEGORIES:Food Distribution
END:VEVENT
BEGIN:VEVENT
DTSTART;TZID=America/New_York:20251026T120000
DTEND;TZID=America/New_York:20251026T123000
DTSTAMP:20260419T222615
CREATED:20240707T075714Z
LAST-MODIFIED:20240707T075714Z
UID:11266-1761480000-1761481800@www.fvfoodpantry.com
SUMMARY:It's In The Bag Ministry
DESCRIPTION:
URL:https://www.fvfoodpantry.com/calendars/its-in-the-bag-ministry-118/
LOCATION:Fuquay Varina Emergency Food Pantry\, 216 West Academy Street\, Fuquay Varina\, NC\, 27526\, United States
CATEGORIES:Food Distribution
END:VEVENT
BEGIN:VEVENT
DTSTART;TZID=America/New_York:20251023T150000
DTEND;TZID=America/New_York:20251023T174500
DTSTAMP:20260419T222615
CREATED:20240704T072849Z
LAST-MODIFIED:20240704T072849Z
UID:11095-1761231600-1761241500@www.fvfoodpantry.com
SUMMARY:Food Distribution
DESCRIPTION:
URL:https://www.fvfoodpantry.com/calendars/food-distribution-182/
LOCATION:Fuquay Varina Emergency Food Pantry\, 216 West Academy Street\, Fuquay Varina\, NC\, 27526\, United States
CATEGORIES:Food Distribution
END:VEVENT
BEGIN:VEVENT
DTSTART;TZID=America/New_York:20251021T090000
DTEND;TZID=America/New_York:20251021T114500
DTSTAMP:20260419T222615
CREATED:20240704T073946Z
LAST-MODIFIED:20240704T073946Z
UID:11176-1761037200-1761047100@www.fvfoodpantry.com
SUMMARY:Food Distribution
DESCRIPTION:
URL:https://www.fvfoodpantry.com/calendars/food-distribution-261/
LOCATION:Fuquay Varina Emergency Food Pantry\, 216 West Academy Street\, Fuquay Varina\, NC\, 27526\, United States
CATEGORIES:Food Distribution
END:VEVENT
BEGIN:VEVENT
DTSTART;TZID=America/New_York:20251019T120000
DTEND;TZID=America/New_York:20251019T123000
DTSTAMP:20260419T222615
CREATED:20240707T075714Z
LAST-MODIFIED:20240707T075714Z
UID:11265-1760875200-1760877000@www.fvfoodpantry.com
SUMMARY:It's In The Bag Ministry
DESCRIPTION:
URL:https://www.fvfoodpantry.com/calendars/its-in-the-bag-ministry-117/
LOCATION:Fuquay Varina Emergency Food Pantry\, 216 West Academy Street\, Fuquay Varina\, NC\, 27526\, United States
CATEGORIES:Food Distribution
END:VEVENT
BEGIN:VEVENT
DTSTART;TZID=America/New_York:20251016T150000
DTEND;TZID=America/New_York:20251016T174500
DTSTAMP:20260419T222615
CREATED:20240704T072849Z
LAST-MODIFIED:20240704T072849Z
UID:11094-1760626800-1760636700@www.fvfoodpantry.com
SUMMARY:Food Distribution
DESCRIPTION:
URL:https://www.fvfoodpantry.com/calendars/food-distribution-181/
LOCATION:Fuquay Varina Emergency Food Pantry\, 216 West Academy Street\, Fuquay Varina\, NC\, 27526\, United States
CATEGORIES:Food Distribution
END:VEVENT
BEGIN:VEVENT
DTSTART;TZID=America/New_York:20251014T090000
DTEND;TZID=America/New_York:20251014T114500
DTSTAMP:20260419T222615
CREATED:20240704T073946Z
LAST-MODIFIED:20240704T073946Z
UID:11175-1760432400-1760442300@www.fvfoodpantry.com
SUMMARY:Food Distribution
DESCRIPTION:
URL:https://www.fvfoodpantry.com/calendars/food-distribution-260/
LOCATION:Fuquay Varina Emergency Food Pantry\, 216 West Academy Street\, Fuquay Varina\, NC\, 27526\, United States
CATEGORIES:Food Distribution
END:VEVENT
BEGIN:VEVENT
DTSTART;TZID=America/New_York:20251012T120000
DTEND;TZID=America/New_York:20251012T123000
DTSTAMP:20260419T222615
CREATED:20240707T075714Z
LAST-MODIFIED:20240707T075714Z
UID:11264-1760270400-1760272200@www.fvfoodpantry.com
SUMMARY:It's In The Bag Ministry
DESCRIPTION:
URL:https://www.fvfoodpantry.com/calendars/its-in-the-bag-ministry-116/
LOCATION:Fuquay Varina Emergency Food Pantry\, 216 West Academy Street\, Fuquay Varina\, NC\, 27526\, United States
CATEGORIES:Food Distribution
END:VEVENT
BEGIN:VEVENT
DTSTART;TZID=America/New_York:20251009T150000
DTEND;TZID=America/New_York:20251009T174500
DTSTAMP:20260419T222615
CREATED:20240704T072849Z
LAST-MODIFIED:20240704T072849Z
UID:11093-1760022000-1760031900@www.fvfoodpantry.com
SUMMARY:Food Distribution
DESCRIPTION:
URL:https://www.fvfoodpantry.com/calendars/food-distribution-180/
LOCATION:Fuquay Varina Emergency Food Pantry\, 216 West Academy Street\, Fuquay Varina\, NC\, 27526\, United States
CATEGORIES:Food Distribution
END:VEVENT
BEGIN:VEVENT
DTSTART;TZID=America/New_York:20251007T090000
DTEND;TZID=America/New_York:20251007T114500
DTSTAMP:20260419T222615
CREATED:20240704T073946Z
LAST-MODIFIED:20240704T073946Z
UID:11174-1759827600-1759837500@www.fvfoodpantry.com
SUMMARY:Food Distribution
DESCRIPTION:
URL:https://www.fvfoodpantry.com/calendars/food-distribution-259/
LOCATION:Fuquay Varina Emergency Food Pantry\, 216 West Academy Street\, Fuquay Varina\, NC\, 27526\, United States
CATEGORIES:Food Distribution
END:VEVENT
BEGIN:VEVENT
DTSTART;TZID=America/New_York:20251005T120000
DTEND;TZID=America/New_York:20251005T123000
DTSTAMP:20260419T222615
CREATED:20240707T075714Z
LAST-MODIFIED:20240707T075714Z
UID:11263-1759665600-1759667400@www.fvfoodpantry.com
SUMMARY:It's In The Bag Ministry
DESCRIPTION:
URL:https://www.fvfoodpantry.com/calendars/its-in-the-bag-ministry-115/
LOCATION:Fuquay Varina Emergency Food Pantry\, 216 West Academy Street\, Fuquay Varina\, NC\, 27526\, United States
CATEGORIES:Food Distribution
END:VEVENT
BEGIN:VEVENT
DTSTART;TZID=America/New_York:20251002T150000
DTEND;TZID=America/New_York:20251002T174500
DTSTAMP:20260419T222615
CREATED:20240704T072849Z
LAST-MODIFIED:20240704T072849Z
UID:11092-1759417200-1759427100@www.fvfoodpantry.com
SUMMARY:Food Distribution
DESCRIPTION:
URL:https://www.fvfoodpantry.com/calendars/food-distribution-179/
LOCATION:Fuquay Varina Emergency Food Pantry\, 216 West Academy Street\, Fuquay Varina\, NC\, 27526\, United States
CATEGORIES:Food Distribution
END:VEVENT
BEGIN:VEVENT
DTSTART;TZID=America/New_York:20250930T090000
DTEND;TZID=America/New_York:20250930T114500
DTSTAMP:20260419T222615
CREATED:20240704T073946Z
LAST-MODIFIED:20240704T073946Z
UID:11173-1759222800-1759232700@www.fvfoodpantry.com
SUMMARY:Food Distribution
DESCRIPTION:
URL:https://www.fvfoodpantry.com/calendars/food-distribution-258/
LOCATION:Fuquay Varina Emergency Food Pantry\, 216 West Academy Street\, Fuquay Varina\, NC\, 27526\, United States
CATEGORIES:Food Distribution
END:VEVENT
BEGIN:VEVENT
DTSTART;TZID=America/New_York:20250928T120000
DTEND;TZID=America/New_York:20250928T123000
DTSTAMP:20260419T222615
CREATED:20240707T075709Z
LAST-MODIFIED:20240707T075709Z
UID:11262-1759060800-1759062600@www.fvfoodpantry.com
SUMMARY:It's In The Bag Ministry
DESCRIPTION:
URL:https://www.fvfoodpantry.com/calendars/its-in-the-bag-ministry-114/
LOCATION:Fuquay Varina Emergency Food Pantry\, 216 West Academy Street\, Fuquay Varina\, NC\, 27526\, United States
CATEGORIES:Food Distribution
END:VEVENT
BEGIN:VEVENT
DTSTART;TZID=America/New_York:20250925T150000
DTEND;TZID=America/New_York:20250925T174500
DTSTAMP:20260419T222615
CREATED:20240704T072836Z
LAST-MODIFIED:20240704T072836Z
UID:11091-1758812400-1758822300@www.fvfoodpantry.com
SUMMARY:Food Distribution
DESCRIPTION:
URL:https://www.fvfoodpantry.com/calendars/food-distribution-178/
LOCATION:Fuquay Varina Emergency Food Pantry\, 216 West Academy Street\, Fuquay Varina\, NC\, 27526\, United States
CATEGORIES:Food Distribution
END:VEVENT
BEGIN:VEVENT
DTSTART;TZID=America/New_York:20250923T090000
DTEND;TZID=America/New_York:20250923T114500
DTSTAMP:20260419T222615
CREATED:20240704T073929Z
LAST-MODIFIED:20240704T073929Z
UID:11172-1758618000-1758627900@www.fvfoodpantry.com
SUMMARY:Food Distribution
DESCRIPTION:
URL:https://www.fvfoodpantry.com/calendars/food-distribution-257/
LOCATION:Fuquay Varina Emergency Food Pantry\, 216 West Academy Street\, Fuquay Varina\, NC\, 27526\, United States
CATEGORIES:Food Distribution
END:VEVENT
BEGIN:VEVENT
DTSTART;TZID=America/New_York:20250921T120000
DTEND;TZID=America/New_York:20250921T123000
DTSTAMP:20260419T222615
CREATED:20240707T075709Z
LAST-MODIFIED:20240707T075709Z
UID:11261-1758456000-1758457800@www.fvfoodpantry.com
SUMMARY:It's In The Bag Ministry
DESCRIPTION:
URL:https://www.fvfoodpantry.com/calendars/its-in-the-bag-ministry-113/
LOCATION:Fuquay Varina Emergency Food Pantry\, 216 West Academy Street\, Fuquay Varina\, NC\, 27526\, United States
CATEGORIES:Food Distribution
END:VEVENT
BEGIN:VEVENT
DTSTART;TZID=America/New_York:20250919T170000
DTEND;TZID=America/New_York:20250919T193000
DTSTAMP:20260419T222615
CREATED:20250916T051033Z
LAST-MODIFIED:20250916T051035Z
UID:12183-1758301200-1758310200@www.fvfoodpantry.com
SUMMARY:Pancake Supper Fundraiser for Fuquay Varina Food Pantry Building Fund
DESCRIPTION:The Exchange Club is having an All you Can Eat Pancake Supper to raise funds so we can build a food pantry. After leasing for 24 years\, it’s time to get roots. Tickets on sale at the Pantry and from friends in the Exchange Club and Pantry volunteers. Can also pay at the door. See you Friday\, 9/19 at First United Methodist Church\, 402 Main St.
URL:https://www.fvfoodpantry.com/calendars/pancake-supper-fundraiser-for-fuquay-varina-food-pantry-building-fund/
LOCATION:First United Methodist Church\, 402 Main Street\, Fuquay Varina\, NC\, 27526\, United States
END:VEVENT
BEGIN:VEVENT
DTSTART;TZID=America/New_York:20250918T150000
DTEND;TZID=America/New_York:20250918T174500
DTSTAMP:20260419T222615
CREATED:20240704T072836Z
LAST-MODIFIED:20240704T072836Z
UID:11090-1758207600-1758217500@www.fvfoodpantry.com
SUMMARY:Food Distribution
DESCRIPTION:
URL:https://www.fvfoodpantry.com/calendars/food-distribution-177/
LOCATION:Fuquay Varina Emergency Food Pantry\, 216 West Academy Street\, Fuquay Varina\, NC\, 27526\, United States
CATEGORIES:Food Distribution
END:VEVENT
BEGIN:VEVENT
DTSTART;TZID=America/New_York:20250916T090000
DTEND;TZID=America/New_York:20250916T114500
DTSTAMP:20260419T222615
CREATED:20240704T073929Z
LAST-MODIFIED:20240704T073929Z
UID:11171-1758013200-1758023100@www.fvfoodpantry.com
SUMMARY:Food Distribution
DESCRIPTION:
URL:https://www.fvfoodpantry.com/calendars/food-distribution-256/
LOCATION:Fuquay Varina Emergency Food Pantry\, 216 West Academy Street\, Fuquay Varina\, NC\, 27526\, United States
CATEGORIES:Food Distribution
END:VEVENT
BEGIN:VEVENT
DTSTART;TZID=America/New_York:20250914T120000
DTEND;TZID=America/New_York:20250914T123000
DTSTAMP:20260419T222615
CREATED:20240707T075709Z
LAST-MODIFIED:20240707T075709Z
UID:11260-1757851200-1757853000@www.fvfoodpantry.com
SUMMARY:It's In The Bag Ministry
DESCRIPTION:
URL:https://www.fvfoodpantry.com/calendars/its-in-the-bag-ministry-112/
LOCATION:Fuquay Varina Emergency Food Pantry\, 216 West Academy Street\, Fuquay Varina\, NC\, 27526\, United States
CATEGORIES:Food Distribution
END:VEVENT
BEGIN:VEVENT
DTSTART;TZID=America/New_York:20250911T150000
DTEND;TZID=America/New_York:20250911T174500
DTSTAMP:20260419T222615
CREATED:20240704T072836Z
LAST-MODIFIED:20240704T072836Z
UID:11089-1757602800-1757612700@www.fvfoodpantry.com
SUMMARY:Food Distribution
DESCRIPTION:
URL:https://www.fvfoodpantry.com/calendars/food-distribution-176/
LOCATION:Fuquay Varina Emergency Food Pantry\, 216 West Academy Street\, Fuquay Varina\, NC\, 27526\, United States
CATEGORIES:Food Distribution
END:VEVENT
BEGIN:VEVENT
DTSTART;TZID=America/New_York:20250909T090000
DTEND;TZID=America/New_York:20250909T114500
DTSTAMP:20260419T222615
CREATED:20240704T073929Z
LAST-MODIFIED:20240704T073929Z
UID:11170-1757408400-1757418300@www.fvfoodpantry.com
SUMMARY:Food Distribution
DESCRIPTION:
URL:https://www.fvfoodpantry.com/calendars/food-distribution-255/
LOCATION:Fuquay Varina Emergency Food Pantry\, 216 West Academy Street\, Fuquay Varina\, NC\, 27526\, United States
CATEGORIES:Food Distribution
END:VEVENT
BEGIN:VEVENT
DTSTART;TZID=America/New_York:20250907T120000
DTEND;TZID=America/New_York:20250907T123000
DTSTAMP:20260419T222615
CREATED:20240707T075709Z
LAST-MODIFIED:20240707T075709Z
UID:11259-1757246400-1757248200@www.fvfoodpantry.com
SUMMARY:It's In The Bag Ministry
DESCRIPTION:
URL:https://www.fvfoodpantry.com/calendars/its-in-the-bag-ministry-111/
LOCATION:Fuquay Varina Emergency Food Pantry\, 216 West Academy Street\, Fuquay Varina\, NC\, 27526\, United States
CATEGORIES:Food Distribution
END:VEVENT
END:VCALENDAR